BEGIN:VCALENDAR
VERSION:2.0
PRODID:-//Svenska Opelklubben - ECPv5.8.1//NONSGML v1.0//EN
CALSCALE:GREGORIAN
METHOD:PUBLISH
X-WR-CALNAME:Svenska Opelklubben
X-ORIGINAL-URL:https://svenskaopelklubben.se
X-WR-CALDESC:Händelser för Svenska Opelklubben
BEGIN:VTIMEZONE
TZID:Europe/Stockholm
BEGIN:DAYLIGHT
TZOFFSETFROM:+0100
TZOFFSETTO:+0200
TZNAME:CEST
DTSTART:20200329T010000
END:DAYLIGHT
BEGIN:STANDARD
TZOFFSETFROM:+0200
TZOFFSETTO:+0100
TZNAME:CET
DTSTART:20201025T010000
END:STANDARD
END:VTIMEZONE
BEGIN:VEVENT
DTSTART;TZID=Europe/Stockholm:20200718T090000
DTEND;TZID=Europe/Stockholm:20200718T150000
DTSTAMP:20260423T105937
CREATED:20200218T030151Z
LAST-MODIFIED:20210816T150449Z
UID:2041-1595062800-1595084400@svenskaopelklubben.se
SUMMARY:Thulinträffen
DESCRIPTION:Thulinträffen i Landskrona 18 Juli!\nHär är ett gäng av våra medlemmar som vill få ihop några Oplar till denna fina plats en dag i Juli!\n\nBrukar samlas och köra in vid 9-10.00 tiden\, det brukar bli lagom.\n\nTacksamt om ni hör av er så man vet hur många som kommer så det blir en gemensam plats.\nKontaktperson Jan Smith – Ramlösa 070-297 81 49\n\n \n\nSidan kan komma att uppdateras.
URL:https://svenskaopelklubben.se/event/thulintraffen/
LOCATION:Landskrona Citadell\, Citadellet\, Landskrona\, 261 31\, Sverige
END:VEVENT
END:VCALENDAR