BEGIN:VCALENDAR
VERSION:2.0
PRODID:-//Svenska Opelklubben - ECPv5.8.1//NONSGML v1.0//EN
CALSCALE:GREGORIAN
METHOD:PUBLISH
X-WR-CALNAME:Svenska Opelklubben
X-ORIGINAL-URL:https://svenskaopelklubben.se
X-WR-CALDESC:Händelser för Svenska Opelklubben
BEGIN:VTIMEZONE
TZID:Europe/Stockholm
BEGIN:DAYLIGHT
TZOFFSETFROM:+0100
TZOFFSETTO:+0200
TZNAME:CEST
DTSTART:20220327T010000
END:DAYLIGHT
BEGIN:STANDARD
TZOFFSETFROM:+0200
TZOFFSETTO:+0100
TZNAME:CET
DTSTART:20221030T010000
END:STANDARD
END:VTIMEZONE
BEGIN:VEVENT
DTSTART;TZID=Europe/Stockholm:20220622T000000
DTEND;TZID=Europe/Stockholm:20220626T235959
DTSTAMP:20260423T105649
CREATED:20220410T212608Z
LAST-MODIFIED:20220530T161823Z
UID:3077-1655856000-1656287999@svenskaopelklubben.se
SUMMARY:Landstreff Savalen\, Norge
DESCRIPTION:Den 22-26 juni 2022 hålls Norges Stora Opelträff och medlemmar i Svenska Opelklubben är inbjudna att delta. Nedan följer information årets träffprogram\, klassindelning för bilar samt hur ni går tillväga för att anmäla er till träffen. Evenemanget anordnas av Opel-registeret\, mer information om träffen går att hitta på deras hemsida: https://www.opelregisteret.no/ \n\n\n\nTräffprogram\n\n\n\n\n\n\n\nOnsdag\n\n\n\n07.30-10.00		Frokost\n12.00			Treffkontor/kiosk åpner\n12.30-14.30		Lunch\n13.00-18.00		Rigging av treffplass\n18.30			Grillene tennes\n18.00-21.00		Middag\n21.00			Sosialt samvær/treffinfo\n\n\n\nTorsdag\n\n\n\n07.30-10.00 		Frokost\n10.00 			Treffkontor/kiosk åpner\n12.30-14.30 		Lunch\n17.00 			Styremøte\n18.30 			Grillene tennes\n18.00-21.00 		Middag\n21.00 			Treffåpning/opelting/treffinfo\n22.00 			Sosialt samvær/Quiz\n\n\n\nFredag\n\n\n\n07.30-10.00		Frokost\n10.00			Treffkontor/kiosk åpner\n12.30-14.30		Lunch\n13.00			Kjøretur\n17.00			Årsmøte\n18.00			Styremøte\n18.30			Grillene tennes\n18.00-21.00		Middag\n21.00			Auksjon/Treff info\n22.00-02.00		Sosialt samvær\n\n\n\nLørdag\n\n\n\n07.30-10.00 		Frokost\n09.00-13.00		Bilutstilling\n10.00			Treffkontor/kiosk åpner\n12.30-14.30		Lunch\n15.00			Pilkastkonkuranse\n18.30			Grillene tennes\n18.00-21.00		Middag\n21.00			Premieutdeling\n23.00			Sosialt samvær\n\n\n\nSøndag\n\n\n\n07.30-10.00		Frokost\n10.00			Treffkontor/kiosk åpner\n12.00			Treffet avslutter\n\n\n\nKlasser\n\n\n\nI år har vi revidert våre klasser for bedømming. Her er de nye klassene. \n\n\n\nKlasse 1: Alle biler til og med 1952 og Blitz ikke KapitanKlasse 2: Olympia/Rekord 1953-1957\, P1\, 1200 og 1500Klasse 3: Opel Kapitan til og med 1963Klasse 4: Rekord P2Klasse 5: Rekord A og BKlasse 6: K.A.D. A og B -Kapitàn\, Admiral og Diplomat-Klasse 7: Kadett A\, B\, C og Olympia AKlasse 8: Rekord CKlasse 9: Rekord DKlasse 10: GTKlasse 11: Commodore AKlasse 12: Commodore BKlasse 13: Ascona A og Manta AKlasse 14: Ascona B og Manta BKlasse 15: Rekord EKlasse 16: Commodore CKlasse 17: Senator A\, B og MonzaKlasse 18: CorsaKlasse 19: Tigra\, Calibra og SpeedsterKlasse 20: Ascona C\, Kadett D og EKlasse 21: OmegaKlasse 22: VectraKlasse 23: AstraKlasse 24: Alle øvrige nyere originalbilerKlasse 25: Ombygde biler 30 år og eldreKlasse 26: Ombygde biler yngre enn 30 årKlasse 27: Andre gjenstander og kjøretøy bygget av\, eller på be-stilling fra Adam Opel AGKlasse 28: Åpen klasse\n\n\n\nTräffanmälan\n\n\n\n\n\n\n\nNår dere i Sverige skal melde dere på treff så kan dere sende meg en mail på: evenhagesveen725@gmail.com med svar på følgende spørsmål: \n\n\n\n  Navn:  Bil:  Årsmodell:  Registreringsnummer:  Ombygd eller ikke: \n\n\n\nDa betaler dere bare treffavgift direkte på treffet. \n\n\n\nPåmeldingsfristen for årets treff er 31 Mai. Hvis noen ønsker å melde seg på etter den tiden så kommer de i en klasse\, altså klasse 28 Åpen klasse. \n\n\n\nFor bestilling av overnatting så må dere ta kontakt med savalen på tlf: +4762471717Savalen tilbyr hotellrom og Caravanplasser. \n\n\n\nDa ønsker jeg dere hjertelig velkommen på landstreff på Savalen 2022.Mvh Even Hagesveenhttps://www.opelregisteret.no/
URL:https://svenskaopelklubben.se/event/landstreff-savalen/
END:VEVENT
END:VCALENDAR